BEGIN:VCALENDAR
VERSION:2.0
PRODID:-//Black People Doing Stuff Outside - ECPv6.15.18//NONSGML v1.0//EN
CALSCALE:GREGORIAN
METHOD:PUBLISH
X-ORIGINAL-URL:https://bpdso.org
X-WR-CALDESC:Events for Black People Doing Stuff Outside
REFRESH-INTERVAL;VALUE=DURATION:PT1H
X-Robots-Tag:noindex
X-PUBLISHED-TTL:PT1H
BEGIN:VTIMEZONE
TZID:UTC
BEGIN:STANDARD
TZOFFSETFROM:+0000
TZOFFSETTO:+0000
TZNAME:UTC
DTSTART:20240101T000000
END:STANDARD
END:VTIMEZONE
BEGIN:VEVENT
DTSTART;TZID=UTC:20250419T070000
DTEND;TZID=UTC:20250419T110000
DTSTAMP:20260420T114713
CREATED:20250406T031608Z
LAST-MODIFIED:20250406T032249Z
UID:10003273-1745046000-1745060400@bpdso.org
SUMMARY:Hiking Adventure: Calico Hills at Red Rock Canyon National Conservation Area
DESCRIPTION:Attention all outdoor enthusiasts\, adventure seekers\, and nature lovers! Black People Doing Stuff Outside (BPDSO) is thrilled to extend an invitation to you for an extraordinary hiking adventure at the stunning Red Rock Canyon\, where we will embark on a journey through the captivating Calico Hills. \n\n\n\nNestled just outside the vibrant city of Las Vegas\, Nevada\, this scenic trail is renowned for its awe-inspiring red and yellow sandstone formations\, sculpted by millions of years of nature’s artistry. Once home to Native American tribes who relied on the land for hunting and gathering\, Calico Hills boasts a rich history that adds to its allure. Today\, it stands as a beloved destination for hikers and outdoor enthusiasts eager to immerse themselves in its rugged splendor. \n\n\n\nGather your friends\, family\, and your trusty camera\, and prepare to experience the breathtaking beauty and profound heritage of this remarkable Nevada treasure. Let’s come together to explore the great outdoors and create lasting memories. We can’t wait to see you there! \n\n\n\n#BPDSO #BPDSO100 #BlackPeopleAdventureToo #BlackPeopleHike #Nevada #LasVegas #RedRockCanyon #CalicoHills #Hiking #Nature #Community #Adventure \n\n\n\nFrequently Asked Questions\nHow do I join? \n\n\n\nTo participate in this incredible hiking experience\, simply RSVP to this event using the RSVP prompt below. You may also mark “Going” to this event on our BPDSO Facebook page. \n\n\n\nHow much does it cost? \n\n\n\nThere are no fees associated with this hike\, but there is a $20 per person park usage fee\, payable at the park entrance. \n\n\n\nHow strenuous is the hike? \n\n\n\nThe trail is approximately 6.1 miles in length and is considered moderately difficult. Some scrambling may be required. The group will travel at a slower pace\, and our experienced group facilitators will ensure that no one is left behind. \n\n\n\nWhat should I bring? \n\n\n\nWe recommend you dress in layers in comfortable hiking attire with sturdy footwear. We also recommend you bring a hat\, sunscreen\, water (at least 1 liter for every two hours)\, and snacks. \n\n\n\nAre pets allowed? \n\n\n\nPer park rules\, pets are allowed but must be leashed at all times. However\, due to the heat\, we strongly discourage bringing pets on this hike. \n\n\n\n\n\n\n\n\n\n\n\n\n\n\n\n\nHost your next event with Us! \n\n\n\nShare Your Outdoor Event with BPDSO!\n\n\n\n\nSubmit Event
URL:https://bpdso.org/event/hiking-adventure-calico-hills-at-red-rock-canyon-national-conservation-area/
LOCATION:Red Rock Canyon Visitor Center\, 1000 Scenic Loop Dr\, Las Vegas\, Nevada\, 89161\, United States
CATEGORIES:Adventures,Community,Hiking,Movement,Wellness
ATTACH;FMTTYPE=image/jpeg:https://bpdso.org/wp-content/uploads/2025/04/20250323_072733-scaled.jpg
END:VEVENT
END:VCALENDAR